BEGIN:VCALENDAR
VERSION:2.0
PRODID:-//Bronx Hype - ECPv6.15.20//NONSGML v1.0//EN
CALSCALE:GREGORIAN
METHOD:PUBLISH
X-WR-CALNAME:Bronx Hype
X-ORIGINAL-URL:https://bronxhype.org
X-WR-CALDESC:Events for Bronx Hype
REFRESH-INTERVAL;VALUE=DURATION:PT1H
X-Robots-Tag:noindex
X-PUBLISHED-TTL:PT1H
BEGIN:VTIMEZONE
TZID:America/New_York
BEGIN:DAYLIGHT
TZOFFSETFROM:-0500
TZOFFSETTO:-0400
TZNAME:EDT
DTSTART:20250309T070000
END:DAYLIGHT
BEGIN:STANDARD
TZOFFSETFROM:-0400
TZOFFSETTO:-0500
TZNAME:EST
DTSTART:20251102T060000
END:STANDARD
BEGIN:DAYLIGHT
TZOFFSETFROM:-0500
TZOFFSETTO:-0400
TZNAME:EDT
DTSTART:20260308T070000
END:DAYLIGHT
BEGIN:STANDARD
TZOFFSETFROM:-0400
TZOFFSETTO:-0500
TZNAME:EST
DTSTART:20261101T060000
END:STANDARD
BEGIN:DAYLIGHT
TZOFFSETFROM:-0500
TZOFFSETTO:-0400
TZNAME:EDT
DTSTART:20270314T070000
END:DAYLIGHT
BEGIN:STANDARD
TZOFFSETFROM:-0400
TZOFFSETTO:-0500
TZNAME:EST
DTSTART:20271107T060000
END:STANDARD
END:VTIMEZONE
BEGIN:VEVENT
DTSTART;TZID=America/New_York:20261127T170000
DTEND;TZID=America/New_York:20261127T180000
DTSTAMP:20260419T150620
CREATED:20260227T162309Z
LAST-MODIFIED:20260227T162310Z
UID:10006506-1795798800-1795802400@bronxhype.org
SUMMARY:Community Birthday!
DESCRIPTION:Date: The last Friday every month!\n\nTIME:  5pm – 6pm\nLocation: 111 Bruckner Blvd – Suite 203\n \n\n\n\nJoin us on every month to celebrate our Birthdays! Light snacks\, beverages\, music and activities will be provided! Bring the family! \nPlease fill out the rsvp below! \n\nRSVP HERE \nWe do not provide child care. Children should always be supervised by their parent\, guardian\, or family member over the age of 18.
URL:https://bronxhype.org/event/community-birthday-2/2026-11-27/
LOCATION:Bronx HYPE\, 111 Bruckner Boulevard\, New York\, NY\, 10454\, United States
CATEGORIES:Communication,Community,Family Fun,Party,Relationships
ATTACH;FMTTYPE=image/png:https://bronxhype.org/wp-content/uploads/2026/01/Community-Birthday-Project-Party-6.png
END:VEVENT
BEGIN:VEVENT
DTSTART;TZID=America/New_York:20261225T170000
DTEND;TZID=America/New_York:20261225T180000
DTSTAMP:20260419T150620
CREATED:20260227T162309Z
LAST-MODIFIED:20260227T162310Z
UID:10006507-1798218000-1798221600@bronxhype.org
SUMMARY:Community Birthday!
DESCRIPTION:Date: The last Friday every month!\n\nTIME:  5pm – 6pm\nLocation: 111 Bruckner Blvd – Suite 203\n \n\n\n\nJoin us on every month to celebrate our Birthdays! Light snacks\, beverages\, music and activities will be provided! Bring the family! \nPlease fill out the rsvp below! \n\nRSVP HERE \nWe do not provide child care. Children should always be supervised by their parent\, guardian\, or family member over the age of 18.
URL:https://bronxhype.org/event/community-birthday-2/2026-12-25/
LOCATION:Bronx HYPE\, 111 Bruckner Boulevard\, New York\, NY\, 10454\, United States
CATEGORIES:Communication,Community,Family Fun,Party,Relationships
ATTACH;FMTTYPE=image/png:https://bronxhype.org/wp-content/uploads/2026/01/Community-Birthday-Project-Party-6.png
END:VEVENT
END:VCALENDAR