BEGIN:VCALENDAR
VERSION:2.0
PRODID:-//Bronx Hype - ECPv6.15.20//NONSGML v1.0//EN
CALSCALE:GREGORIAN
METHOD:PUBLISH
X-ORIGINAL-URL:https://bronxhype.org
X-WR-CALDESC:Events for Bronx Hype
REFRESH-INTERVAL;VALUE=DURATION:PT1H
X-Robots-Tag:noindex
X-PUBLISHED-TTL:PT1H
BEGIN:VTIMEZONE
TZID:America/New_York
BEGIN:DAYLIGHT
TZOFFSETFROM:-0500
TZOFFSETTO:-0400
TZNAME:EDT
DTSTART:20250309T070000
END:DAYLIGHT
BEGIN:STANDARD
TZOFFSETFROM:-0400
TZOFFSETTO:-0500
TZNAME:EST
DTSTART:20251102T060000
END:STANDARD
BEGIN:DAYLIGHT
TZOFFSETFROM:-0500
TZOFFSETTO:-0400
TZNAME:EDT
DTSTART:20260308T070000
END:DAYLIGHT
BEGIN:STANDARD
TZOFFSETFROM:-0400
TZOFFSETTO:-0500
TZNAME:EST
DTSTART:20261101T060000
END:STANDARD
BEGIN:DAYLIGHT
TZOFFSETFROM:-0500
TZOFFSETTO:-0400
TZNAME:EDT
DTSTART:20270314T070000
END:DAYLIGHT
BEGIN:STANDARD
TZOFFSETFROM:-0400
TZOFFSETTO:-0500
TZNAME:EST
DTSTART:20271107T060000
END:STANDARD
END:VTIMEZONE
BEGIN:VEVENT
DTSTART;TZID=America/New_York:20260205T120000
DTEND;TZID=America/New_York:20260205T150000
DTSTAMP:20260422T172345
CREATED:20260202T153429Z
LAST-MODIFIED:20260202T153429Z
UID:10006158-1770292800-1770303600@bronxhype.org
SUMMARY:Second Story Thrift Shop @ The HYPE Shop
DESCRIPTION:Date: Every other Thursday ( February 12th and 26th)\n\nTIME:  1:00pm\nLocation: 109 Bruckner Blvd – Ground floor\n\nSecond Story by Foster Pride is a family thrift shop! Where the currency is love and kindness. We provide a ” Second Story” for the gently used and new items. We advise to take only what you need so everyone can make a second story! First come first serve. RSVP below.\nhttps://docs.google.com/forms/d/1rdxuP74zKdKeOxtcSloDEoX8ujZV2bZil7kv8RbaT4E/edit\n\n\nWe welcome all families.\n\nWe do not provide child care. Children should always be supervised by their parent\, guardian\, or family member over the age of 18.\n\nHave questions? call 347.483.9463\n\nContact Amanda (Director) Amanda@remcny.org\n 
URL:https://bronxhype.org/event/second-story-thrift-shop-formerly-known-as-thrifting-thursdays-the-hype-shop-2-2-2-2-2/2026-02-05/
LOCATION:Bronx HYPE\, 111 Bruckner Boulevard\, New York\, NY\, 10454\, United States
CATEGORIES:Community,Essential Items,Pantry,Parent Support,Resilience,Support
ATTACH;FMTTYPE=image/png:https://bronxhype.org/wp-content/uploads/2025/05/Red-Pink-We-Are-Open-Instagram-Post-1.png
END:VEVENT
BEGIN:VEVENT
DTSTART;TZID=America/New_York:20260205T180000
DTEND;TZID=America/New_York:20260205T200000
DTSTAMP:20260422T172345
CREATED:20251010T144152Z
LAST-MODIFIED:20260310T145459Z
UID:10006508-1770314400-1770321600@bronxhype.org
SUMMARY:All Kings Open Circle
DESCRIPTION:Location: 111 Bruckner Blvd Bronx NY 10454 \nTime: 6pm \nThis is a 6 week open circle for all men that will be facilitated by All Kings. \nRSVP HERE \nWe do not provide childcare. All children under the age of 18 must be accompanied by an adult/caregiver at all times.
URL:https://bronxhype.org/event/all-kings-open-circle/2026-02-05/
LOCATION:Bronx HYPE\, 111 Bruckner Boulevard\, New York\, NY\, 10454\, United States
CATEGORIES:Communication,Community,Knowledge,Meeting,Parent Support,Relationships,Resilience,Support
ATTACH;FMTTYPE=image/png:https://bronxhype.org/wp-content/uploads/2025/10/AllKings-Mens-Group-4.png
END:VEVENT
BEGIN:VEVENT
DTSTART;TZID=America/New_York:20260212T130000
DTEND;TZID=America/New_York:20260212T150000
DTSTAMP:20260422T172345
CREATED:20260202T153429Z
LAST-MODIFIED:20260202T153429Z
UID:10006532-1770901200-1770908400@bronxhype.org
SUMMARY:Second Story Thrift Shop @ The HYPE Shop
DESCRIPTION:Date: Every other Thursday ( February 12th and 26th)\n\nTIME:  1:00pm\nLocation: 109 Bruckner Blvd – Ground floor\n\nSecond Story by Foster Pride is a family thrift shop! Where the currency is love and kindness. We provide a ” Second Story” for the gently used and new items. We advise to take only what you need so everyone can make a second story! First come first serve. RSVP below.\nhttps://docs.google.com/forms/d/1rdxuP74zKdKeOxtcSloDEoX8ujZV2bZil7kv8RbaT4E/edit\n\n\nWe welcome all families.\n\nWe do not provide child care. Children should always be supervised by their parent\, guardian\, or family member over the age of 18.\n\nHave questions? call 347.483.9463\n\nContact Amanda (Director) Amanda@remcny.org\n 
URL:https://bronxhype.org/event/second-story-thrift-shop-formerly-known-as-thrifting-thursdays-the-hype-shop-2-2-2-2-2/2026-02-12/
LOCATION:Bronx HYPE\, 111 Bruckner Boulevard\, New York\, NY\, 10454\, United States
CATEGORIES:Community,Essential Items,Pantry,Parent Support,Resilience,Support
ATTACH;FMTTYPE=image/png:https://bronxhype.org/wp-content/uploads/2025/05/Red-Pink-We-Are-Open-Instagram-Post-1.png
END:VEVENT
BEGIN:VEVENT
DTSTART;TZID=America/New_York:20260212T153000
DTEND;TZID=America/New_York:20260212T170000
DTSTAMP:20260422T172345
CREATED:20260107T161756Z
LAST-MODIFIED:20260310T145323Z
UID:10006535-1770910200-1770915600@bronxhype.org
SUMMARY:Journaling with Sweets
DESCRIPTION:Date: January 8th\, February 12th\, March 12th \nTime: 3:30pm \nLocation: 111 Bruckner Blvd Suite 203 Bronx NY 10454 \nThis is a guided journaling workshop facilitated by Ms. Sweets open for everyone. Click the Rsvp link below. \nWe do not provide child care. Children should always be supervised by their parent\, guardian\, or family member over the age of 18.\nRSVP
URL:https://bronxhype.org/event/journaling-with-sweets-2/2026-02-12/
LOCATION:Bronx HYPE\, 111 Bruckner Boulevard\, New York\, NY\, 10454\, United States
CATEGORIES:Communication,Community,Parent Support,Relationships,Resilience,Support
ATTACH;FMTTYPE=image/png:https://bronxhype.org/wp-content/uploads/2026/01/Light-Pink-Script-Watercolor-Brush-General-Greetings-Flyer-2-1.png
END:VEVENT
BEGIN:VEVENT
DTSTART;TZID=America/New_York:20260212T180000
DTEND;TZID=America/New_York:20260212T200000
DTSTAMP:20260422T172345
CREATED:20251010T144152Z
LAST-MODIFIED:20260310T145459Z
UID:10006509-1770919200-1770926400@bronxhype.org
SUMMARY:All Kings Open Circle
DESCRIPTION:Location: 111 Bruckner Blvd Bronx NY 10454 \nTime: 6pm \nThis is a 6 week open circle for all men that will be facilitated by All Kings. \nRSVP HERE \nWe do not provide childcare. All children under the age of 18 must be accompanied by an adult/caregiver at all times.
URL:https://bronxhype.org/event/all-kings-open-circle/2026-02-12/
LOCATION:Bronx HYPE\, 111 Bruckner Boulevard\, New York\, NY\, 10454\, United States
CATEGORIES:Communication,Community,Knowledge,Meeting,Parent Support,Relationships,Resilience,Support
ATTACH;FMTTYPE=image/png:https://bronxhype.org/wp-content/uploads/2025/10/AllKings-Mens-Group-4.png
END:VEVENT
BEGIN:VEVENT
DTSTART;TZID=America/New_York:20260218T153000
DTEND;TZID=America/New_York:20260218T170000
DTSTAMP:20260422T172345
CREATED:20260120T164156Z
LAST-MODIFIED:20260302T162434Z
UID:10006531-1771428600-1771434000@bronxhype.org
SUMMARY:Closed Door Conversations
DESCRIPTION:A Brave space for parents\, caregivers\, and all members of the community. This offering aligns with the Relationships\, Resilience\, Community\, and Communication Protective Factors\n\nWhile children are always welcomed\, we do not provide child care. Children should always be supervised by their parent\, guardian\, or family member the age of 18 or over.\n \n \nLocation: 111 Bruckner Blvd\, suite 203 \n\nDate: Wednesday January 21st\, February 18th\, March 4th and 11th\nTime:  3:30PM-5PM\n\n\nPlease RSVP by clicking HERE\nHave questions? call 347.483.9463
URL:https://bronxhype.org/event/closed-door-conversations-a-safe-space-for-women-2-2-2-2-4-2/2026-02-18/
LOCATION:Bronx HYPE\, 111 Bruckner Boulevard\, New York\, NY\, 10454\, United States
CATEGORIES:Communication,Community,Meeting,Parent Support,Relationships,Resilience,Support
ATTACH;FMTTYPE=image/png:https://bronxhype.org/wp-content/uploads/2025/10/Elegant-We-Are-Closed-Message-Your-Story-1.png
END:VEVENT
BEGIN:VEVENT
DTSTART;TZID=America/New_York:20260219T120000
DTEND;TZID=America/New_York:20260219T140000
DTSTAMP:20260422T172345
CREATED:20260202T160021Z
LAST-MODIFIED:20260202T160021Z
UID:10006536-1771502400-1771509600@bronxhype.org
SUMMARY:Movie Matine: Black History Month
DESCRIPTION:Date: February 19th\n\nTIME:  12pm – 2pm\nLocation: 111 Bruckner Blvd – Suite 203\n \n\n\n\nJoin us in celebrating black history month by watching ” The Boy who harnessed the wind. Light snacks and beverages will be provided. \nPlease fill out the rsvp below! \n\nRSVP HERE \nWe do not provide child care. Children should always be supervised by their parent\, guardian\, or family member over the age of 18.
URL:https://bronxhype.org/event/movie-matine-black-history-month/
LOCATION:Bronx HYPE\, 111 Bruckner Boulevard\, New York\, NY\, 10454\, United States
CATEGORIES:Community,Knowledge,Resilience
ATTACH;FMTTYPE=image/jpeg:https://bronxhype.org/wp-content/uploads/2026/02/PHOTO-2026-01-30-15-12-34-2.jpg
END:VEVENT
BEGIN:VEVENT
DTSTART;TZID=America/New_York:20260219T180000
DTEND;TZID=America/New_York:20260219T200000
DTSTAMP:20260422T172345
CREATED:20251010T144152Z
LAST-MODIFIED:20260310T145459Z
UID:10006510-1771524000-1771531200@bronxhype.org
SUMMARY:All Kings Open Circle
DESCRIPTION:Location: 111 Bruckner Blvd Bronx NY 10454 \nTime: 6pm \nThis is a 6 week open circle for all men that will be facilitated by All Kings. \nRSVP HERE \nWe do not provide childcare. All children under the age of 18 must be accompanied by an adult/caregiver at all times.
URL:https://bronxhype.org/event/all-kings-open-circle/2026-02-19/
LOCATION:Bronx HYPE\, 111 Bruckner Boulevard\, New York\, NY\, 10454\, United States
CATEGORIES:Communication,Community,Knowledge,Meeting,Parent Support,Relationships,Resilience,Support
ATTACH;FMTTYPE=image/png:https://bronxhype.org/wp-content/uploads/2025/10/AllKings-Mens-Group-4.png
END:VEVENT
BEGIN:VEVENT
DTSTART;TZID=America/New_York:20260226T130000
DTEND;TZID=America/New_York:20260226T150000
DTSTAMP:20260422T172345
CREATED:20260202T153429Z
LAST-MODIFIED:20260202T153429Z
UID:10006533-1772110800-1772118000@bronxhype.org
SUMMARY:Second Story Thrift Shop @ The HYPE Shop
DESCRIPTION:Date: Every other Thursday ( February 12th and 26th)\n\nTIME:  1:00pm\nLocation: 109 Bruckner Blvd – Ground floor\n\nSecond Story by Foster Pride is a family thrift shop! Where the currency is love and kindness. We provide a ” Second Story” for the gently used and new items. We advise to take only what you need so everyone can make a second story! First come first serve. RSVP below.\nhttps://docs.google.com/forms/d/1rdxuP74zKdKeOxtcSloDEoX8ujZV2bZil7kv8RbaT4E/edit\n\n\nWe welcome all families.\n\nWe do not provide child care. Children should always be supervised by their parent\, guardian\, or family member over the age of 18.\n\nHave questions? call 347.483.9463\n\nContact Amanda (Director) Amanda@remcny.org\n 
URL:https://bronxhype.org/event/second-story-thrift-shop-formerly-known-as-thrifting-thursdays-the-hype-shop-2-2-2-2-2/2026-02-26/
LOCATION:Bronx HYPE\, 111 Bruckner Boulevard\, New York\, NY\, 10454\, United States
CATEGORIES:Community,Essential Items,Pantry,Parent Support,Resilience,Support
ATTACH;FMTTYPE=image/png:https://bronxhype.org/wp-content/uploads/2025/05/Red-Pink-We-Are-Open-Instagram-Post-1.png
END:VEVENT
BEGIN:VEVENT
DTSTART;TZID=America/New_York:20260226T180000
DTEND;TZID=America/New_York:20260226T200000
DTSTAMP:20260422T172345
CREATED:20251010T144152Z
LAST-MODIFIED:20260310T145459Z
UID:10006511-1772128800-1772136000@bronxhype.org
SUMMARY:All Kings Open Circle
DESCRIPTION:Location: 111 Bruckner Blvd Bronx NY 10454 \nTime: 6pm \nThis is a 6 week open circle for all men that will be facilitated by All Kings. \nRSVP HERE \nWe do not provide childcare. All children under the age of 18 must be accompanied by an adult/caregiver at all times.
URL:https://bronxhype.org/event/all-kings-open-circle/2026-02-26/
LOCATION:Bronx HYPE\, 111 Bruckner Boulevard\, New York\, NY\, 10454\, United States
CATEGORIES:Communication,Community,Knowledge,Meeting,Parent Support,Relationships,Resilience,Support
ATTACH;FMTTYPE=image/png:https://bronxhype.org/wp-content/uploads/2025/10/AllKings-Mens-Group-4.png
END:VEVENT
END:VCALENDAR