BEGIN:VCALENDAR
VERSION:2.0
PRODID:-//Bronx Hype - ECPv6.15.20//NONSGML v1.0//EN
CALSCALE:GREGORIAN
METHOD:PUBLISH
X-WR-CALNAME:Bronx Hype
X-ORIGINAL-URL:https://bronxhype.org
X-WR-CALDESC:Events for Bronx Hype
REFRESH-INTERVAL;VALUE=DURATION:PT1H
X-Robots-Tag:noindex
X-PUBLISHED-TTL:PT1H
BEGIN:VTIMEZONE
TZID:America/New_York
BEGIN:DAYLIGHT
TZOFFSETFROM:-0500
TZOFFSETTO:-0400
TZNAME:EDT
DTSTART:20240310T070000
END:DAYLIGHT
BEGIN:STANDARD
TZOFFSETFROM:-0400
TZOFFSETTO:-0500
TZNAME:EST
DTSTART:20241103T060000
END:STANDARD
BEGIN:DAYLIGHT
TZOFFSETFROM:-0500
TZOFFSETTO:-0400
TZNAME:EDT
DTSTART:20250309T070000
END:DAYLIGHT
BEGIN:STANDARD
TZOFFSETFROM:-0400
TZOFFSETTO:-0500
TZNAME:EST
DTSTART:20251102T060000
END:STANDARD
BEGIN:DAYLIGHT
TZOFFSETFROM:-0500
TZOFFSETTO:-0400
TZNAME:EDT
DTSTART:20260308T070000
END:DAYLIGHT
BEGIN:STANDARD
TZOFFSETFROM:-0400
TZOFFSETTO:-0500
TZNAME:EST
DTSTART:20261101T060000
END:STANDARD
END:VTIMEZONE
BEGIN:VEVENT
DTSTART;TZID=America/New_York:20250506T160000
DTEND;TZID=America/New_York:20250506T180000
DTSTAMP:20260425T172944
CREATED:20250409T162653Z
LAST-MODIFIED:20250502T155839Z
UID:10005159-1746547200-1746554400@bronxhype.org
SUMMARY:Closed Door Conversations
DESCRIPTION:A Brave space for parents\, caregivers\, and all members of the community. This offering aligns with the Relationships\, Resilience\, Community\, and Communication Protective Factors\n\nWhile children are always welcomed\, we do not provide child care. Children should always be supervised by their parent\, guardian\, or family member the age of 18 or over.\n \n \nLocation: 111 Bruckner Blvd\, suite 203\n\nTime: Tuesday 4PM-6PM\n\n\nHave questions? call 347.483.9463
URL:https://bronxhype.org/event/closed-door-conversations-a-safe-space-for-women-2-2-2/
LOCATION:Bronx HYPE\, 111 Bruckner Boulevard\, New York\, NY\, 10454\, United States
CATEGORIES:Communication,Community,Meeting,Parent Support,Relationships,Resilience,Support
ATTACH;FMTTYPE=image/png:https://bronxhype.org/wp-content/uploads/2024/10/Closed-Door-Conversations-1.png
END:VEVENT
BEGIN:VEVENT
DTSTART;TZID=America/New_York:20250515T140000
DTEND;TZID=America/New_York:20250515T170000
DTSTAMP:20260425T172944
CREATED:20250502T164425Z
LAST-MODIFIED:20250502T164426Z
UID:10005168-1747317600-1747328400@bronxhype.org
SUMMARY:Grow NYC Food distribution
DESCRIPTION:Date: Tuesday May 15th\n\nTIME:  2:00pm – until supplies last\nLocation: 109 Bruckner Blvd – Ground Level entrance\n\nWe have partnered with Grow NYC and Haven & Hope to distribute fresh produce to our community. We welcome all families. \nWe do not provide child care. Children should always be supervised by their parent\, guardian\, or family member over the age of 18.\n\nHave questions? call 347.483.9463\n\nContact Amanda (Director) Amanda@remcny.org
URL:https://bronxhype.org/event/grow-nyc-food-distribution/
LOCATION:Bronx HYPE\, 111 Bruckner Boulevard\, New York\, NY\, 10454\, United States
CATEGORIES:Community,Essential Items,Pantry,Parent Support,Resilience,Support
ATTACH;FMTTYPE=image/png:https://bronxhype.org/wp-content/uploads/2025/05/FoodPantryBronxHype.png
END:VEVENT
BEGIN:VEVENT
DTSTART;TZID=America/New_York:20250522T140000
DTEND;TZID=America/New_York:20250522T170000
DTSTAMP:20260425T172944
CREATED:20250506T150337Z
LAST-MODIFIED:20250813T193340Z
UID:10005436-1747922400-1747933200@bronxhype.org
SUMMARY:Second Story Thrift Shop formerly known as Thrifting Thursdays @ The HYPE Shop
DESCRIPTION:Date: Every other Thursday\n\nTIME:  2:00pm\nLocation: 109 Bruckner Blvd – Ground floor\n\nSecond Story by Foster Pride is a family thrift shop! Where the currency is love and kindness. We provide a ” Second Story” for the gently used and new items. We advise to take only what you need so everyone can make a second story! RSVP below.\nhttps://docs.google.com/forms/d/1rdxuP74zKdKeOxtcSloDEoX8ujZV2bZil7kv8RbaT4E/edit\n\n\nWe welcome all families.\n\nWe do not provide child care. Children should always be supervised by their parent\, guardian\, or family member over the age of 18.\n\nHave questions? call 347.483.9463\n\nContact Amanda (Director) Amanda@remcny.org\n 
URL:https://bronxhype.org/event/second-story-thrift-shop-formerly-known-as-thrifting-thursdays-the-hype-shop/
LOCATION:Bronx HYPE\, 111 Bruckner Boulevard\, New York\, NY\, 10454\, United States
CATEGORIES:Community,Essential Items,Pantry,Parent Support,Resilience,Support
ATTACH;FMTTYPE=image/png:https://bronxhype.org/wp-content/uploads/2025/05/Red-Pink-We-Are-Open-Instagram-Post-1.png
END:VEVENT
BEGIN:VEVENT
DTSTART;TZID=America/New_York:20250527T160000
DTEND;TZID=America/New_York:20250527T180000
DTSTAMP:20260425T172944
CREATED:20250602T161047Z
LAST-MODIFIED:20250602T161502Z
UID:10005162-1748361600-1748368800@bronxhype.org
SUMMARY:Closed Door Conversations
DESCRIPTION:A Brave space for parents\, caregivers\, and all members of the community. This offering aligns with the Relationships\, Resilience\, Community\, and Communication Protective Factors\n\nWhile children are always welcomed\, we do not provide child care. Children should always be supervised by their parent\, guardian\, or family member the age of 18 or over.\n \n \nLocation: 111 Bruckner Blvd\, suite 203\n\nDates/Time: Every other Tuesday at 4pm\n\n\nHave questions? call 347.483.9463\n\nRSVP: https://docs.google.com/forms/d/1HTr1hdVvAkFeFdQTloFQIErNQeU8AQ6qfgO8g3BI_x8/edit
URL:https://bronxhype.org/event/closed-door-conversations-a-safe-space-for-women-2-2-2-2-2/
LOCATION:Bronx HYPE\, 111 Bruckner Boulevard\, New York\, NY\, 10454\, United States
CATEGORIES:Communication,Community,Meeting,Parent Support,Relationships,Resilience,Support
ATTACH;FMTTYPE=image/png:https://bronxhype.org/wp-content/uploads/2024/10/Closed-Door-Conversations-1.png
END:VEVENT
END:VCALENDAR