BEGIN:VCALENDAR
VERSION:2.0
PRODID:-//Bronx Hype - ECPv6.15.20//NONSGML v1.0//EN
CALSCALE:GREGORIAN
METHOD:PUBLISH
X-ORIGINAL-URL:https://bronxhype.org
X-WR-CALDESC:Events for Bronx Hype
REFRESH-INTERVAL;VALUE=DURATION:PT1H
X-Robots-Tag:noindex
X-PUBLISHED-TTL:PT1H
BEGIN:VTIMEZONE
TZID:America/New_York
BEGIN:DAYLIGHT
TZOFFSETFROM:-0500
TZOFFSETTO:-0400
TZNAME:EDT
DTSTART:20240310T070000
END:DAYLIGHT
BEGIN:STANDARD
TZOFFSETFROM:-0400
TZOFFSETTO:-0500
TZNAME:EST
DTSTART:20241103T060000
END:STANDARD
BEGIN:DAYLIGHT
TZOFFSETFROM:-0500
TZOFFSETTO:-0400
TZNAME:EDT
DTSTART:20250309T070000
END:DAYLIGHT
BEGIN:STANDARD
TZOFFSETFROM:-0400
TZOFFSETTO:-0500
TZNAME:EST
DTSTART:20251102T060000
END:STANDARD
BEGIN:DAYLIGHT
TZOFFSETFROM:-0500
TZOFFSETTO:-0400
TZNAME:EDT
DTSTART:20260308T070000
END:DAYLIGHT
BEGIN:STANDARD
TZOFFSETFROM:-0400
TZOFFSETTO:-0500
TZNAME:EST
DTSTART:20261101T060000
END:STANDARD
END:VTIMEZONE
BEGIN:VEVENT
DTSTART;TZID=America/New_York:20251216T170000
DTEND;TZID=America/New_York:20251216T180000
DTSTAMP:20260425T114512
CREATED:20251211T165900Z
LAST-MODIFIED:20251211T165900Z
UID:10006491-1765904400-1765908000@bronxhype.org
SUMMARY:Community Birthday Project
DESCRIPTION:Date: December 16th and the 30th\n\nTIME:  5pm – 6pm\nLocation: 111 Bruckner Blvd – Suite 203\n \n\n\n\nJoin us on either or both days to decorate your birthday flame! ( This reminds the community of your birth date!) \nEvery middle of the month we will be celebrating all of the birthdays of that month! Please fill out the rsvp below! \n\nRSVP HERE \nWe do not provide child care. Children should always be supervised by their parent\, guardian\, or family member over the age of 18.
URL:https://bronxhype.org/event/community-birthday-project/2025-12-16/
LOCATION:Bronx HYPE\, 111 Bruckner Boulevard\, New York\, NY\, 10454\, United States
CATEGORIES:Communication,Community,Family Fun,Party,Relationships
ATTACH;FMTTYPE=image/png:https://bronxhype.org/wp-content/uploads/2025/12/Community-Birthday-Project-Party.png
END:VEVENT
END:VCALENDAR