BEGIN:VCALENDAR
VERSION:2.0
PRODID:-//Bronx Hype - ECPv6.15.20//NONSGML v1.0//EN
CALSCALE:GREGORIAN
METHOD:PUBLISH
X-ORIGINAL-URL:https://bronxhype.org
X-WR-CALDESC:Events for Bronx Hype
REFRESH-INTERVAL;VALUE=DURATION:PT1H
X-Robots-Tag:noindex
X-PUBLISHED-TTL:PT1H
BEGIN:VTIMEZONE
TZID:America/New_York
BEGIN:DAYLIGHT
TZOFFSETFROM:-0500
TZOFFSETTO:-0400
TZNAME:EDT
DTSTART:20240310T070000
END:DAYLIGHT
BEGIN:STANDARD
TZOFFSETFROM:-0400
TZOFFSETTO:-0500
TZNAME:EST
DTSTART:20241103T060000
END:STANDARD
BEGIN:DAYLIGHT
TZOFFSETFROM:-0500
TZOFFSETTO:-0400
TZNAME:EDT
DTSTART:20250309T070000
END:DAYLIGHT
BEGIN:STANDARD
TZOFFSETFROM:-0400
TZOFFSETTO:-0500
TZNAME:EST
DTSTART:20251102T060000
END:STANDARD
BEGIN:DAYLIGHT
TZOFFSETFROM:-0500
TZOFFSETTO:-0400
TZNAME:EDT
DTSTART:20260308T070000
END:DAYLIGHT
BEGIN:STANDARD
TZOFFSETFROM:-0400
TZOFFSETTO:-0500
TZNAME:EST
DTSTART:20261101T060000
END:STANDARD
END:VTIMEZONE
BEGIN:VEVENT
DTSTART;TZID=America/New_York:20251119T160000
DTEND;TZID=America/New_York:20251119T190000
DTSTAMP:20260424T082515
CREATED:20251105T162958Z
LAST-MODIFIED:20251105T173153Z
UID:10006481-1763568000-1763578800@bronxhype.org
SUMMARY:Friendsgiving Coat giveaway & Dinner
DESCRIPTION:Date: Wednesday November 19th\n\nTIME:  4pm\nLocation: 111 Bruckner Blvd Suite 203\n\nCome enjoy a potluck style dinner and shop for a free coat! (While supplies last) One coat per person. \nPlease click the rsvp link below to register. \n\nRegister here
URL:https://bronxhype.org/event/friendsgiving-coat-giveaway-dinner/
LOCATION:Bronx HYPE\, 111 Bruckner Boulevard\, New York\, NY\, 10454\, United States
CATEGORIES:Community,Parent Support,Relationships,Resilience,Support
ATTACH;FMTTYPE=image/png:https://bronxhype.org/wp-content/uploads/2025/11/FriendsgivingDinner2025.png
END:VEVENT
END:VCALENDAR