BEGIN:VCALENDAR
VERSION:2.0
PRODID:-//Bronx Hype - ECPv6.15.20//NONSGML v1.0//EN
CALSCALE:GREGORIAN
METHOD:PUBLISH
X-ORIGINAL-URL:https://bronxhype.org
X-WR-CALDESC:Events for Bronx Hype
REFRESH-INTERVAL;VALUE=DURATION:PT1H
X-Robots-Tag:noindex
X-PUBLISHED-TTL:PT1H
BEGIN:VTIMEZONE
TZID:America/New_York
BEGIN:DAYLIGHT
TZOFFSETFROM:-0500
TZOFFSETTO:-0400
TZNAME:EDT
DTSTART:20240310T070000
END:DAYLIGHT
BEGIN:STANDARD
TZOFFSETFROM:-0400
TZOFFSETTO:-0500
TZNAME:EST
DTSTART:20241103T060000
END:STANDARD
BEGIN:DAYLIGHT
TZOFFSETFROM:-0500
TZOFFSETTO:-0400
TZNAME:EDT
DTSTART:20250309T070000
END:DAYLIGHT
BEGIN:STANDARD
TZOFFSETFROM:-0400
TZOFFSETTO:-0500
TZNAME:EST
DTSTART:20251102T060000
END:STANDARD
BEGIN:DAYLIGHT
TZOFFSETFROM:-0500
TZOFFSETTO:-0400
TZNAME:EDT
DTSTART:20260308T070000
END:DAYLIGHT
BEGIN:STANDARD
TZOFFSETFROM:-0400
TZOFFSETTO:-0500
TZNAME:EST
DTSTART:20261101T060000
END:STANDARD
END:VTIMEZONE
BEGIN:VEVENT
DTSTART;TZID=America/New_York:20250917T170000
DTEND;TZID=America/New_York:20250917T190000
DTSTAMP:20260421T132832
CREATED:20250916T143945Z
LAST-MODIFIED:20250916T144153Z
UID:10006450-1758128400-1758135600@bronxhype.org
SUMMARY:Creative Writing Workshop
DESCRIPTION:Date: Wednesday\, September 17th  \nTime: 5pm – 7pm \nLocation: 111 Bruckner Blvd Suite 203 Bronx NY 10454 \n  \nThis creative workshop is hosted by the Bronx HYPE and facilitated by Massiel Alfonso from the MUSE Gallery. \nThis offering does not require a rsvp. Please try to show up at least 15 mins beforehand. 
URL:https://bronxhype.org/event/creative-writing-workshop/
LOCATION:NY
CATEGORIES:Communication,Community,Knowledge,Relationships
ATTACH;FMTTYPE=image/jpeg:https://bronxhype.org/wp-content/uploads/2025/09/CreativeWritingWorkshopMUSE.jpg
END:VEVENT
END:VCALENDAR