BEGIN:VCALENDAR
VERSION:2.0
PRODID:-//Bronx Hype - ECPv6.15.20//NONSGML v1.0//EN
CALSCALE:GREGORIAN
METHOD:PUBLISH
X-ORIGINAL-URL:https://bronxhype.org
X-WR-CALDESC:Events for Bronx Hype
REFRESH-INTERVAL;VALUE=DURATION:PT1H
X-Robots-Tag:noindex
X-PUBLISHED-TTL:PT1H
BEGIN:VTIMEZONE
TZID:America/New_York
BEGIN:DAYLIGHT
TZOFFSETFROM:-0500
TZOFFSETTO:-0400
TZNAME:EDT
DTSTART:20240310T070000
END:DAYLIGHT
BEGIN:STANDARD
TZOFFSETFROM:-0400
TZOFFSETTO:-0500
TZNAME:EST
DTSTART:20241103T060000
END:STANDARD
BEGIN:DAYLIGHT
TZOFFSETFROM:-0500
TZOFFSETTO:-0400
TZNAME:EDT
DTSTART:20250309T070000
END:DAYLIGHT
BEGIN:STANDARD
TZOFFSETFROM:-0400
TZOFFSETTO:-0500
TZNAME:EST
DTSTART:20251102T060000
END:STANDARD
BEGIN:DAYLIGHT
TZOFFSETFROM:-0500
TZOFFSETTO:-0400
TZNAME:EDT
DTSTART:20260308T070000
END:DAYLIGHT
BEGIN:STANDARD
TZOFFSETFROM:-0400
TZOFFSETTO:-0500
TZNAME:EST
DTSTART:20261101T060000
END:STANDARD
BEGIN:DAYLIGHT
TZOFFSETFROM:-0500
TZOFFSETTO:-0400
TZNAME:EDT
DTSTART:20270314T070000
END:DAYLIGHT
BEGIN:STANDARD
TZOFFSETFROM:-0400
TZOFFSETTO:-0500
TZNAME:EST
DTSTART:20271107T060000
END:STANDARD
END:VTIMEZONE
BEGIN:VEVENT
DTSTART;TZID=America/New_York:20260424T170000
DTEND;TZID=America/New_York:20260424T190000
DTSTAMP:20260425T130736
CREATED:20260423T153941Z
LAST-MODIFIED:20260423T153942Z
UID:10006560-1777050000-1777057200@bronxhype.org
SUMMARY:Community Birthday!
DESCRIPTION:Date: The last Friday every month!\n\nTIME:  5pm – 6pm\nLocation: 111 Bruckner Blvd – Suite 203\n \n\n\n\nJoin us on every month to celebrate our Birthdays! Light snacks\, beverages\, music and activities will be provided! Bring the family! \nPlease fill out the rsvp below! \n\nRSVP HERE \nWe do not provide child care. Children should always be supervised by their parent\, guardian\, or family member over the age of 18.
URL:https://bronxhype.org/event/community-birthday-2-2-2/
LOCATION:Bronx HYPE\, 111 Bruckner Boulevard\, New York\, NY\, 10454\, United States
CATEGORIES:Communication,Community,Family Fun,Party,Relationships
ATTACH;FMTTYPE=image/png:https://bronxhype.org/wp-content/uploads/2026/03/Community-Birthday-Project-Party-8.png
END:VEVENT
BEGIN:VEVENT
DTSTART;TZID=America/New_York:20260424T170000
DTEND;TZID=America/New_York:20260424T180000
DTSTAMP:20260425T130736
CREATED:20260227T162309Z
LAST-MODIFIED:20260227T162310Z
UID:10006499-1777050000-1777053600@bronxhype.org
SUMMARY:Community Birthday!
DESCRIPTION:Date: The last Friday every month!\n\nTIME:  5pm – 6pm\nLocation: 111 Bruckner Blvd – Suite 203\n \n\n\n\nJoin us on every month to celebrate our Birthdays! Light snacks\, beverages\, music and activities will be provided! Bring the family! \nPlease fill out the rsvp below! \n\nRSVP HERE \nWe do not provide child care. Children should always be supervised by their parent\, guardian\, or family member over the age of 18.
URL:https://bronxhype.org/event/community-birthday-2/2026-04-24/
LOCATION:Bronx HYPE\, 111 Bruckner Boulevard\, New York\, NY\, 10454\, United States
CATEGORIES:Communication,Community,Family Fun,Party,Relationships
ATTACH;FMTTYPE=image/png:https://bronxhype.org/wp-content/uploads/2026/01/Community-Birthday-Project-Party-6.png
END:VEVENT
BEGIN:VEVENT
DTSTART;TZID=America/New_York:20260327T170000
DTEND;TZID=America/New_York:20260327T180000
DTSTAMP:20260425T130736
CREATED:20260320T183443Z
LAST-MODIFIED:20260415T150354Z
UID:10006498-1774630800-1774634400@bronxhype.org
SUMMARY:Community Birthday!
DESCRIPTION:Date: The last Friday every month!\n\nTIME:  5pm – 6pm\nLocation: 111 Bruckner Blvd – Suite 203\n \n\n\n\nJoin us on every month to celebrate our Birthdays! Light snacks\, beverages\, music and activities will be provided! Bring the family! \nPlease fill out the rsvp below! \n\nRSVP HERE \nWe do not provide child care. Children should always be supervised by their parent\, guardian\, or family member over the age of 18.
URL:https://bronxhype.org/event/community-birthday-2-2/
LOCATION:Bronx HYPE\, 111 Bruckner Boulevard\, New York\, NY\, 10454\, United States
CATEGORIES:Communication,Community,Family Fun,Party,Relationships
ATTACH;FMTTYPE=image/png:https://bronxhype.org/wp-content/uploads/2026/01/Community-Birthday-Project-Party-6.png
END:VEVENT
BEGIN:VEVENT
DTSTART;TZID=America/New_York:20260227T170000
DTEND;TZID=America/New_York:20260227T180000
DTSTAMP:20260425T130736
CREATED:20260227T162309Z
LAST-MODIFIED:20260227T162310Z
UID:10006497-1772211600-1772215200@bronxhype.org
SUMMARY:Community Birthday!
DESCRIPTION:Date: The last Friday every month!\n\nTIME:  5pm – 6pm\nLocation: 111 Bruckner Blvd – Suite 203\n \n\n\n\nJoin us on every month to celebrate our Birthdays! Light snacks\, beverages\, music and activities will be provided! Bring the family! \nPlease fill out the rsvp below! \n\nRSVP HERE \nWe do not provide child care. Children should always be supervised by their parent\, guardian\, or family member over the age of 18.
URL:https://bronxhype.org/event/community-birthday-2/2026-02-27/
LOCATION:Bronx HYPE\, 111 Bruckner Boulevard\, New York\, NY\, 10454\, United States
CATEGORIES:Communication,Community,Family Fun,Party,Relationships
ATTACH;FMTTYPE=image/png:https://bronxhype.org/wp-content/uploads/2026/01/Community-Birthday-Project-Party-6.png
END:VEVENT
BEGIN:VEVENT
DTSTART;TZID=America/New_York:20260130T170000
DTEND;TZID=America/New_York:20260130T180000
DTSTAMP:20260425T130736
CREATED:20260115T152053Z
LAST-MODIFIED:20260115T152053Z
UID:10006496-1769792400-1769796000@bronxhype.org
SUMMARY:Community Birthday!
DESCRIPTION:Date: The last Friday every month!\n\nTIME:  5pm – 6pm\nLocation: 111 Bruckner Blvd – Suite 203\n \n\n\n\nJoin us on every month to celebrate our Birthdays! Light snacks\, beverages\, music and activities will be provided! Bring the family! \nPlease fill out the rsvp below! \n\nRSVP HERE \nWe do not provide child care. Children should always be supervised by their parent\, guardian\, or family member over the age of 18.
URL:https://bronxhype.org/event/community-birthday/
LOCATION:Bronx HYPE\, 111 Bruckner Boulevard\, New York\, NY\, 10454\, United States
CATEGORIES:Communication,Community,Family Fun,Party,Relationships
ATTACH;FMTTYPE=image/png:https://bronxhype.org/wp-content/uploads/2026/01/Community-Birthday-Project-Party-5.png
END:VEVENT
BEGIN:VEVENT
DTSTART;TZID=America/New_York:20251230T170000
DTEND;TZID=America/New_York:20251230T180000
DTSTAMP:20260425T130736
CREATED:20251211T165900Z
LAST-MODIFIED:20251211T165900Z
UID:10006492-1767114000-1767117600@bronxhype.org
SUMMARY:Community Birthday Project
DESCRIPTION:Date: December 16th and the 30th\n\nTIME:  5pm – 6pm\nLocation: 111 Bruckner Blvd – Suite 203\n \n\n\n\nJoin us on either or both days to decorate your birthday flame! ( This reminds the community of your birth date!) \nEvery middle of the month we will be celebrating all of the birthdays of that month! Please fill out the rsvp below! \n\nRSVP HERE \nWe do not provide child care. Children should always be supervised by their parent\, guardian\, or family member over the age of 18.
URL:https://bronxhype.org/event/community-birthday-project/2025-12-30/
LOCATION:Bronx HYPE\, 111 Bruckner Boulevard\, New York\, NY\, 10454\, United States
CATEGORIES:Communication,Community,Family Fun,Party,Relationships
ATTACH;FMTTYPE=image/png:https://bronxhype.org/wp-content/uploads/2025/12/Community-Birthday-Project-Party.png
END:VEVENT
BEGIN:VEVENT
DTSTART;TZID=America/New_York:20251219T170000
DTEND;TZID=America/New_York:20251219T190000
DTSTAMP:20260425T130736
CREATED:20251202T155420Z
LAST-MODIFIED:20251202T155420Z
UID:10006490-1766163600-1766170800@bronxhype.org
SUMMARY:Cookies and Coquito Holiday Bake off
DESCRIPTION:Date: December 19th\n\nTIME:  5pm – 7pm\nLocation: 111 Bruckner Blvd – Suite 203\n\nWelcome to our Cookies and Coquito holiday bake off! \n\n\n\nWe want the community to be the judges! Our staff and Parent advisory committee will be having a bake off with cookies and other sweets. There will also be a (virgin) coquito competition that we need the community to judge! All families are welcome to join and be a judge. \n\nWe do not provide child care. Children should always be supervised by their parent\, guardian\, or family member over the age of 18.\n\nRSVP HERE\n\nHave questions? call 347.483.9463\n\nContact Amanda (Director) Amanda@remcny.org\, 347-483-9463
URL:https://bronxhype.org/event/cookies-and-coquito-holiday-bake-off/
LOCATION:Bronx HYPE\, 111 Bruckner Boulevard\, New York\, NY\, 10454\, United States
CATEGORIES:Community,Family Fun,Party,Relationships
ATTACH;FMTTYPE=image/png:https://bronxhype.org/wp-content/uploads/2025/12/cookies-and-coquito.png
END:VEVENT
BEGIN:VEVENT
DTSTART;TZID=America/New_York:20251216T170000
DTEND;TZID=America/New_York:20251216T180000
DTSTAMP:20260425T130736
CREATED:20251211T165900Z
LAST-MODIFIED:20251211T165900Z
UID:10006491-1765904400-1765908000@bronxhype.org
SUMMARY:Community Birthday Project
DESCRIPTION:Date: December 16th and the 30th\n\nTIME:  5pm – 6pm\nLocation: 111 Bruckner Blvd – Suite 203\n \n\n\n\nJoin us on either or both days to decorate your birthday flame! ( This reminds the community of your birth date!) \nEvery middle of the month we will be celebrating all of the birthdays of that month! Please fill out the rsvp below! \n\nRSVP HERE \nWe do not provide child care. Children should always be supervised by their parent\, guardian\, or family member over the age of 18.
URL:https://bronxhype.org/event/community-birthday-project/2025-12-16/
LOCATION:Bronx HYPE\, 111 Bruckner Boulevard\, New York\, NY\, 10454\, United States
CATEGORIES:Communication,Community,Family Fun,Party,Relationships
ATTACH;FMTTYPE=image/png:https://bronxhype.org/wp-content/uploads/2025/12/Community-Birthday-Project-Party.png
END:VEVENT
BEGIN:VEVENT
DTSTART;TZID=America/New_York:20251212T170000
DTEND;TZID=America/New_York:20251212T190000
DTSTAMP:20260425T130736
CREATED:20251202T153306Z
LAST-MODIFIED:20251202T155038Z
UID:10006489-1765558800-1765566000@bronxhype.org
SUMMARY:Holiday Toy Party
DESCRIPTION:Date: December 12th\n\nTIME:  5pm – 7pm\nLocation: 111 Bruckner Blvd – Suite 203\n\nJoin us for fun holiday art\, games\, and toys for children! 1 toy per kid and the kids MUST BE PRESENT!!\n\nRSVP HERE\n\n\n\nWe do not provide child care. Children should always be supervised by their parent\, guardian\, or family member over the age of 18.\n\nHave questions? call 347.483.9463\n\nContact Amanda (Director) Amanda@remcny.org
URL:https://bronxhype.org/event/holiday-toy-party/
LOCATION:Bronx HYPE\, 111 Bruckner Boulevard\, New York\, NY\, 10454\, United States
CATEGORIES:Community,Family Fun,Party,Relationships
ATTACH;FMTTYPE=image/png:https://bronxhype.org/wp-content/uploads/2025/12/HolidayToysArtParty.png
END:VEVENT
END:VCALENDAR