BEGIN:VCALENDAR
VERSION:2.0
PRODID:-//Bronx Hype - ECPv6.15.20//NONSGML v1.0//EN
CALSCALE:GREGORIAN
METHOD:PUBLISH
X-ORIGINAL-URL:https://bronxhype.org
X-WR-CALDESC:Events for Bronx Hype
REFRESH-INTERVAL;VALUE=DURATION:PT1H
X-Robots-Tag:noindex
X-PUBLISHED-TTL:PT1H
BEGIN:VTIMEZONE
TZID:America/New_York
BEGIN:DAYLIGHT
TZOFFSETFROM:-0500
TZOFFSETTO:-0400
TZNAME:EDT
DTSTART:20250309T070000
END:DAYLIGHT
BEGIN:STANDARD
TZOFFSETFROM:-0400
TZOFFSETTO:-0500
TZNAME:EST
DTSTART:20251102T060000
END:STANDARD
BEGIN:DAYLIGHT
TZOFFSETFROM:-0500
TZOFFSETTO:-0400
TZNAME:EDT
DTSTART:20260308T070000
END:DAYLIGHT
BEGIN:STANDARD
TZOFFSETFROM:-0400
TZOFFSETTO:-0500
TZNAME:EST
DTSTART:20261101T060000
END:STANDARD
BEGIN:DAYLIGHT
TZOFFSETFROM:-0500
TZOFFSETTO:-0400
TZNAME:EDT
DTSTART:20270314T070000
END:DAYLIGHT
BEGIN:STANDARD
TZOFFSETFROM:-0400
TZOFFSETTO:-0500
TZNAME:EST
DTSTART:20271107T060000
END:STANDARD
END:VTIMEZONE
BEGIN:VEVENT
DTSTART;TZID=America/New_York:20260212T153000
DTEND;TZID=America/New_York:20260212T170000
DTSTAMP:20260422T052550
CREATED:20260107T161756Z
LAST-MODIFIED:20260310T145323Z
UID:10006535-1770910200-1770915600@bronxhype.org
SUMMARY:Journaling with Sweets
DESCRIPTION:Date: January 8th\, February 12th\, March 12th \nTime: 3:30pm \nLocation: 111 Bruckner Blvd Suite 203 Bronx NY 10454 \nThis is a guided journaling workshop facilitated by Ms. Sweets open for everyone. Click the Rsvp link below. \nWe do not provide child care. Children should always be supervised by their parent\, guardian\, or family member over the age of 18.\nRSVP
URL:https://bronxhype.org/event/journaling-with-sweets-2/2026-02-12/
LOCATION:Bronx HYPE\, 111 Bruckner Boulevard\, New York\, NY\, 10454\, United States
CATEGORIES:Communication,Community,Parent Support,Relationships,Resilience,Support
ATTACH;FMTTYPE=image/png:https://bronxhype.org/wp-content/uploads/2026/01/Light-Pink-Script-Watercolor-Brush-General-Greetings-Flyer-2-1.png
END:VEVENT
BEGIN:VEVENT
DTSTART;TZID=America/New_York:20260212T180000
DTEND;TZID=America/New_York:20260212T200000
DTSTAMP:20260422T052550
CREATED:20251010T144152Z
LAST-MODIFIED:20260310T145459Z
UID:10006509-1770919200-1770926400@bronxhype.org
SUMMARY:All Kings Open Circle
DESCRIPTION:Location: 111 Bruckner Blvd Bronx NY 10454 \nTime: 6pm \nThis is a 6 week open circle for all men that will be facilitated by All Kings. \nRSVP HERE \nWe do not provide childcare. All children under the age of 18 must be accompanied by an adult/caregiver at all times.
URL:https://bronxhype.org/event/all-kings-open-circle/2026-02-12/
LOCATION:Bronx HYPE\, 111 Bruckner Boulevard\, New York\, NY\, 10454\, United States
CATEGORIES:Communication,Community,Knowledge,Meeting,Parent Support,Relationships,Resilience,Support
ATTACH;FMTTYPE=image/png:https://bronxhype.org/wp-content/uploads/2025/10/AllKings-Mens-Group-4.png
END:VEVENT
END:VCALENDAR