BEGIN:VCALENDAR
VERSION:2.0
PRODID:-//Bronx Hype - ECPv6.15.20//NONSGML v1.0//EN
CALSCALE:GREGORIAN
METHOD:PUBLISH
X-WR-CALNAME:Bronx Hype
X-ORIGINAL-URL:https://bronxhype.org
X-WR-CALDESC:Events for Bronx Hype
REFRESH-INTERVAL;VALUE=DURATION:PT1H
X-Robots-Tag:noindex
X-PUBLISHED-TTL:PT1H
BEGIN:VTIMEZONE
TZID:America/New_York
BEGIN:DAYLIGHT
TZOFFSETFROM:-0500
TZOFFSETTO:-0400
TZNAME:EDT
DTSTART:20250309T070000
END:DAYLIGHT
BEGIN:STANDARD
TZOFFSETFROM:-0400
TZOFFSETTO:-0500
TZNAME:EST
DTSTART:20251102T060000
END:STANDARD
BEGIN:DAYLIGHT
TZOFFSETFROM:-0500
TZOFFSETTO:-0400
TZNAME:EDT
DTSTART:20260308T070000
END:DAYLIGHT
BEGIN:STANDARD
TZOFFSETFROM:-0400
TZOFFSETTO:-0500
TZNAME:EST
DTSTART:20261101T060000
END:STANDARD
BEGIN:DAYLIGHT
TZOFFSETFROM:-0500
TZOFFSETTO:-0400
TZNAME:EDT
DTSTART:20270314T070000
END:DAYLIGHT
BEGIN:STANDARD
TZOFFSETFROM:-0400
TZOFFSETTO:-0500
TZNAME:EST
DTSTART:20271107T060000
END:STANDARD
END:VTIMEZONE
BEGIN:VEVENT
DTSTART;TZID=America/New_York:20260206T150000
DTEND;TZID=America/New_York:20260206T170000
DTSTAMP:20260420T005501
CREATED:20260107T222623Z
LAST-MODIFIED:20260302T162158Z
UID:10006529-1770390000-1770397200@bronxhype.org
SUMMARY:Crochet Class
DESCRIPTION:Date: January 9th and 23rd\, February 6th and 20th\, March 6th and 20th\n\nTIME:  3pm – 5pm\nLocation: 111 Bruckner Blvd – Suite 203\n \n\n\n\nCrochet classes are back with Sahara! Open to ages 12 and up. \n\nRSVP HERE \nWe do not provide child care. Children should always be supervised by their parent\, guardian\, or family member over the age of 18.
URL:https://bronxhype.org/event/crochet-class/2026-02-06/
LOCATION:Bronx HYPE\, 111 Bruckner Boulevard\, New York\, NY\, 10454\, United States
CATEGORIES:Communication,Community,Family Fun,Relationships
ATTACH;FMTTYPE=image/jpeg:https://bronxhype.org/wp-content/uploads/2026/01/incollage_save-scaled.jpg
END:VEVENT
BEGIN:VEVENT
DTSTART;TZID=America/New_York:20260206T160000
DTEND;TZID=America/New_York:20260206T183000
DTSTAMP:20260420T005501
CREATED:20240105T192053Z
LAST-MODIFIED:20251015T174726Z
UID:10000944-1770393600-1770402600@bronxhype.org
SUMMARY:Family Friday - Games and Arts and Crafts
DESCRIPTION:Date: Every Friday\n\nTIME:  4:00pm – 6:30pm \nLocation: 111 Bruckner Blvd – 2nd floor –  Suite 203\n\nThis offering aligns with the Community and Relationships Protective Factors\n\n\nCome and enjoy games and arts and crafts with the whole family. We do not provide child care. Children should always be supervised by their parent\, guardian\, or family member the age of 18 or over.\n\nLocation: 111 Bruckner Blvd\, suite 203\n\nTime: Tuesday 4PM-6PM\n\n\nHave questions? call 347.483.9463\n\nContact Julian (Community  Liaison) Julian@theremcenter.org\, 646-801-0191\nRegister to attend
URL:https://bronxhype.org/event/family-game-nights/2026-02-06/
LOCATION:NY
CATEGORIES:Communication,Community,Family Fun,Relationships
ATTACH;FMTTYPE=image/png:https://bronxhype.org/wp-content/uploads/2024/01/Family-Foster-1-1.png
END:VEVENT
END:VCALENDAR