BEGIN:VCALENDAR
VERSION:2.0
PRODID:-//Bronx Hype - ECPv6.15.20//NONSGML v1.0//EN
CALSCALE:GREGORIAN
METHOD:PUBLISH
X-ORIGINAL-URL:https://bronxhype.org
X-WR-CALDESC:Events for Bronx Hype
REFRESH-INTERVAL;VALUE=DURATION:PT1H
X-Robots-Tag:noindex
X-PUBLISHED-TTL:PT1H
BEGIN:VTIMEZONE
TZID:America/New_York
BEGIN:DAYLIGHT
TZOFFSETFROM:-0500
TZOFFSETTO:-0400
TZNAME:EDT
DTSTART:20240310T070000
END:DAYLIGHT
BEGIN:STANDARD
TZOFFSETFROM:-0400
TZOFFSETTO:-0500
TZNAME:EST
DTSTART:20241103T060000
END:STANDARD
BEGIN:DAYLIGHT
TZOFFSETFROM:-0500
TZOFFSETTO:-0400
TZNAME:EDT
DTSTART:20250309T070000
END:DAYLIGHT
BEGIN:STANDARD
TZOFFSETFROM:-0400
TZOFFSETTO:-0500
TZNAME:EST
DTSTART:20251102T060000
END:STANDARD
BEGIN:DAYLIGHT
TZOFFSETFROM:-0500
TZOFFSETTO:-0400
TZNAME:EDT
DTSTART:20260308T070000
END:DAYLIGHT
BEGIN:STANDARD
TZOFFSETFROM:-0400
TZOFFSETTO:-0500
TZNAME:EST
DTSTART:20261101T060000
END:STANDARD
END:VTIMEZONE
BEGIN:VEVENT
DTSTART;TZID=America/New_York:20251112T120000
DTEND;TZID=America/New_York:20251112T140000
DTSTAMP:20260422T162633
CREATED:20251103T152809Z
LAST-MODIFIED:20251103T152809Z
UID:10006479-1762948800-1762956000@bronxhype.org
SUMMARY:Journaling with Sweets
DESCRIPTION:Date: November 12th & December 10th \nTime: 12pm \nLocation: 111 Bruckner Blvd Suite 203 Bronx NY 10454 \nAs we approach the busiest time of year\, journaling can be an incredible support to gain control over your life before it sips out of control just before the new year. Dealing with bills\, holidays and grief all at once can send someone deep into their own hole. Let’s face the season together with a dynamic tool\, better understanding and a plan. \nRSVP
URL:https://bronxhype.org/event/journaling-with-sweets/
LOCATION:Bronx HYPE\, 111 Bruckner Boulevard\, New York\, NY\, 10454\, United States
CATEGORIES:Communication,Community,Parent Support,Relationships,Resilience,Support
ATTACH;FMTTYPE=image/jpeg:https://bronxhype.org/wp-content/uploads/2025/11/Join-us-again-on-November-12th-at-2pm.-As-we-approach-the-busiest-time-of-year-journaling-can-be-an-incredible-support-to-gain-control-over-your-life-before-it-sips-out-of-control-just-before-the.jpg
END:VEVENT
END:VCALENDAR