BEGIN:VCALENDAR
VERSION:2.0
PRODID:-//Bronx Hype - ECPv6.15.20//NONSGML v1.0//EN
CALSCALE:GREGORIAN
METHOD:PUBLISH
X-WR-CALNAME:Bronx Hype
X-ORIGINAL-URL:https://bronxhype.org
X-WR-CALDESC:Events for Bronx Hype
REFRESH-INTERVAL;VALUE=DURATION:PT1H
X-Robots-Tag:noindex
X-PUBLISHED-TTL:PT1H
BEGIN:VTIMEZONE
TZID:America/New_York
BEGIN:DAYLIGHT
TZOFFSETFROM:-0500
TZOFFSETTO:-0400
TZNAME:EDT
DTSTART:20240310T070000
END:DAYLIGHT
BEGIN:STANDARD
TZOFFSETFROM:-0400
TZOFFSETTO:-0500
TZNAME:EST
DTSTART:20241103T060000
END:STANDARD
BEGIN:DAYLIGHT
TZOFFSETFROM:-0500
TZOFFSETTO:-0400
TZNAME:EDT
DTSTART:20250309T070000
END:DAYLIGHT
BEGIN:STANDARD
TZOFFSETFROM:-0400
TZOFFSETTO:-0500
TZNAME:EST
DTSTART:20251102T060000
END:STANDARD
BEGIN:DAYLIGHT
TZOFFSETFROM:-0500
TZOFFSETTO:-0400
TZNAME:EDT
DTSTART:20260308T070000
END:DAYLIGHT
BEGIN:STANDARD
TZOFFSETFROM:-0400
TZOFFSETTO:-0500
TZNAME:EST
DTSTART:20261101T060000
END:STANDARD
END:VTIMEZONE
BEGIN:VEVENT
DTSTART;TZID=America/New_York:20250925T120000
DTEND;TZID=America/New_York:20250925T150000
DTSTAMP:20260422T194607
CREATED:20250915T160741Z
LAST-MODIFIED:20250915T161302Z
UID:10006139-1758801600-1758812400@bronxhype.org
SUMMARY:Second Story Thrift Shop @ The HYPE Shop
DESCRIPTION:Date: Every Thursday\n\nTIME:  12:00pm\nLocation: 109 Bruckner Blvd – Ground floor\n\nSecond Story by Foster Pride is a family thrift shop! Where the currency is love and kindness. We provide a ” Second Story” for the gently used and new items. We advise to take only what you need so everyone can make a second story! First come first serve. RSVP below.\nhttps://docs.google.com/forms/d/1rdxuP74zKdKeOxtcSloDEoX8ujZV2bZil7kv8RbaT4E/edit\n\n\nWe welcome all families.\n\nWe do not provide child care. Children should always be supervised by their parent\, guardian\, or family member over the age of 18.\n\nHave questions? call 347.483.9463\n\nContact Amanda (Director) Amanda@remcny.org\n 
URL:https://bronxhype.org/event/second-story-thrift-shop-formerly-known-as-thrifting-thursdays-the-hype-shop-2-2-2/2025-09-25/
LOCATION:Bronx HYPE\, 111 Bruckner Boulevard\, New York\, NY\, 10454\, United States
CATEGORIES:Community,Essential Items,Pantry,Parent Support,Resilience,Support
ATTACH;FMTTYPE=image/png:https://bronxhype.org/wp-content/uploads/2025/05/Red-Pink-We-Are-Open-Instagram-Post-1.png
END:VEVENT
BEGIN:VEVENT
DTSTART;TZID=America/New_York:20250925T170000
DTEND;TZID=America/New_York:20250925T183000
DTSTAMP:20260422T194607
CREATED:20250502T163511Z
LAST-MODIFIED:20251006T143755Z
UID:10005167-1758819600-1758825000@bronxhype.org
SUMMARY:Ladies in the lead
DESCRIPTION:Date: Thursday October 30th\n\nTIME:  4pm – 6pm \nLocation: 111 Bruckner Blvd – 2nd floor –  Suite 203\n\nThis offering is to support empowering women as well as building community. We welcome ladies from teens and up. Rsvp below: \nhttps://docs.google.com/forms/d/1vBgk9MwCThyHKrA6x3Dc93x0coMh_zAaltF95YIVQQE/edit \nWe do not provide child care. Children should always be supervised by their parent\, guardian\, or family member over the age of 18.\n\nHave questions? call 347.483.9463\n\nContact Amanda(Director) Amanda@remcny.org
URL:https://bronxhype.org/event/ladies-in-the-lead/2025-09-25/
LOCATION:Bronx HYPE\, 111 Bruckner Boulevard\, New York\, NY\, 10454\, United States
CATEGORIES:Communication,Community,Knowledge,Meeting,Relationships,Resilience,Support
ATTACH;FMTTYPE=image/png:https://bronxhype.org/wp-content/uploads/2025/05/ladiesintheleadwallpaper.png
END:VEVENT
BEGIN:VEVENT
DTSTART;TZID=America/New_York:20250925T170000
DTEND;TZID=America/New_York:20250925T183000
DTSTAMP:20260422T194607
CREATED:20251103T151850Z
LAST-MODIFIED:20251103T151850Z
UID:10006478-1758819600-1758825000@bronxhype.org
SUMMARY:Ladies in the lead
DESCRIPTION:Date: Thursday October 30th\n\nTIME:  4pm – 6pm \nLocation: 111 Bruckner Blvd – 2nd floor –  Suite 203\n\nThis offering is to support empowering women as well as building community. We welcome ladies from teens and up. Rsvp below: \nhttps://docs.google.com/forms/d/1vBgk9MwCThyHKrA6x3Dc93x0coMh_zAaltF95YIVQQE/edit \nWe do not provide child care. Children should always be supervised by their parent\, guardian\, or family member over the age of 18.\n\nHave questions? call 347.483.9463\n\nContact Amanda(Director) Amanda@remcny.org
URL:https://bronxhype.org/event/ladies-in-the-lead-2/
LOCATION:Bronx HYPE\, 111 Bruckner Boulevard\, New York\, NY\, 10454\, United States
ATTACH;FMTTYPE=image/png:https://bronxhype.org/wp-content/uploads/2025/05/ladiesintheleadwallpaper.png
END:VEVENT
END:VCALENDAR